BEGIN:VCALENDAR
VERSION:2.0
PRODID:-//Graham County - ECPv6.15.16.1//NONSGML v1.0//EN
CALSCALE:GREGORIAN
METHOD:PUBLISH
X-ORIGINAL-URL:https://grahamcountytravel.com
X-WR-CALDESC:Events for Graham County
REFRESH-INTERVAL;VALUE=DURATION:PT1H
X-Robots-Tag:noindex
X-PUBLISHED-TTL:PT1H
BEGIN:VTIMEZONE
TZID:UTC
BEGIN:STANDARD
TZOFFSETFROM:+0000
TZOFFSETTO:+0000
TZNAME:UTC
DTSTART:20240101T000000
END:STANDARD
END:VTIMEZONE
BEGIN:VEVENT
DTSTART;TZID=UTC:20250510T080000
DTEND;TZID=UTC:20250510T120000
DTSTAMP:20260423T172459
CREATED:20230404T192529Z
LAST-MODIFIED:20250326T170443Z
UID:5164-1746864000-1746878400@grahamcountytravel.com
SUMMARY:Graham County Farmers and Craft Market
DESCRIPTION:40th ANNUAL FADING VOICES DEMONSTRATION DAY\nA CELEBRATION OF TRADITIONAL WAYS of THE SNOWBIRD CHEROKEES\n\n\n\nSpend the day learning Cherokee traditions with Handmade Crafts\, Cherokee foods\, Beadwork\, Pottery\, Quilting\, Stick Ball\, and so many more demonstrations along with Beautiful Cherokee Hymn Singing.\n\nThe Mound Building Demonstration will begin at 11 am — bring a cup or turtle shell full of dirt from home to participate.\n\nTHIS IS A RAIN OR SHINE EVENT
URL:https://grahamcountytravel.com/event/graham-county-farmers-and-craft-market/
LOCATION:Beside of Graham County Public Library\, 80 Knight Street\, ROBBINSVILLE\, NC\, 28771\, United States
END:VEVENT
END:VCALENDAR