BEGIN:VCALENDAR
VERSION:2.0
PRODID:-//Graham County - ECPv6.15.16.1//NONSGML v1.0//EN
CALSCALE:GREGORIAN
METHOD:PUBLISH
X-WR-CALNAME:Graham County
X-ORIGINAL-URL:https://grahamcountytravel.com
X-WR-CALDESC:Events for Graham County
REFRESH-INTERVAL;VALUE=DURATION:PT1H
X-Robots-Tag:noindex
X-PUBLISHED-TTL:PT1H
BEGIN:VTIMEZONE
TZID:UTC
BEGIN:STANDARD
TZOFFSETFROM:+0000
TZOFFSETTO:+0000
TZNAME:UTC
DTSTART:20180101T000000
END:STANDARD
END:VTIMEZONE
BEGIN:VEVENT
DTSTART;VALUE=DATE:20191111
DTEND;VALUE=DATE:20191112
DTSTAMP:20260421T080129
CREATED:20190806T131903Z
LAST-MODIFIED:20190806T131904Z
UID:2260-1573430400-1573516799@grahamcountytravel.com
SUMMARY:Veteran's Day Celebration
DESCRIPTION:An Appalachian Evening with Kruger Brothers\n\nBorn and raised in Europe\, brothers Jens and Uwe Kruger started singing and playing instruments at a very young age. Growing up in a family where music was an important part of life\, they were exposed to a wide diversity of musical influences. The brothers were performing regularly by the time they were eleven and twelve years old\, and they began their professional career in 1979. Jens’ and Uwe’s first public performances were as a duo\, and in just a few years they were busking on the streets of cities throughout eastern and western Europe. CBS Records contracted with Jens and Uwe when Jens was just seventeen years old\, and shortly thereafter\, the Krugers hosted a radio show on SRG SSR\, the Swiss Public broadcast group. Several years later\, the brothers teamed up with bass player Joel Landsberg\, a native of New York City who also had a very extensive musical upbringing in classical and jazz music (studying with jazz great Milt Hinton)\, thus forming a trio that has been playing professionally together since 1995.\n\n 
URL:https://grahamcountytravel.com/event/veterans-day-celebration/
LOCATION:Robbinsville High School\, 301 Sweetwater Rd\, Robbinsville\, NC\, 28771\, United States
ATTACH;FMTTYPE=image/jpeg:https://grahamcountytravel.com/wp-content/uploads/2019/08/Veterans-Day-600x380.jpg
ORGANIZER;CN="Graham County Festivals Inc.":MAILTO:gcfestivalsinc@gmail.com
END:VEVENT
BEGIN:VEVENT
DTSTART;TZID=UTC:20190824T090000
DTEND;TZID=UTC:20190824T190000
DTSTAMP:20260421T080129
CREATED:20190809T144909Z
LAST-MODIFIED:20190813T152637Z
UID:2270-1566637200-1566673200@grahamcountytravel.com
SUMMARY:Revved Up Robbinsville's First Ever Graham County Poker Run and Weiner Roast
DESCRIPTION:An Appalachian Evening with Kruger Brothers\n\nBorn and raised in Europe\, brothers Jens and Uwe Kruger started singing and playing instruments at a very young age. Growing up in a family where music was an important part of life\, they were exposed to a wide diversity of musical influences. The brothers were performing regularly by the time they were eleven and twelve years old\, and they began their professional career in 1979. Jens’ and Uwe’s first public performances were as a duo\, and in just a few years they were busking on the streets of cities throughout eastern and western Europe. CBS Records contracted with Jens and Uwe when Jens was just seventeen years old\, and shortly thereafter\, the Krugers hosted a radio show on SRG SSR\, the Swiss Public broadcast group. Several years later\, the brothers teamed up with bass player Joel Landsberg\, a native of New York City who also had a very extensive musical upbringing in classical and jazz music (studying with jazz great Milt Hinton)\, thus forming a trio that has been playing professionally together since 1995.\n\n 
URL:https://grahamcountytravel.com/event/revved-up-robbinsvilles-first-ever-graham-county-poker-run-and-weiner-roast/
LOCATION:Courthouse Square\, 12 Court St\, Robbinsville\, NC\, 28771\, United States
END:VEVENT
BEGIN:VEVENT
DTSTART;TZID=UTC:20190420T210000
DTEND;TZID=UTC:20190420T210000
DTSTAMP:20260421T080129
CREATED:20190409T131338Z
LAST-MODIFIED:20190409T143913Z
UID:1969-1555794000-1555794000@grahamcountytravel.com
SUMMARY:Moonrise at Tapoco Lodge
DESCRIPTION:An Appalachian Evening with Kruger Brothers\n\nBorn and raised in Europe\, brothers Jens and Uwe Kruger started singing and playing instruments at a very young age. Growing up in a family where music was an important part of life\, they were exposed to a wide diversity of musical influences. The brothers were performing regularly by the time they were eleven and twelve years old\, and they began their professional career in 1979. Jens’ and Uwe’s first public performances were as a duo\, and in just a few years they were busking on the streets of cities throughout eastern and western Europe. CBS Records contracted with Jens and Uwe when Jens was just seventeen years old\, and shortly thereafter\, the Krugers hosted a radio show on SRG SSR\, the Swiss Public broadcast group. Several years later\, the brothers teamed up with bass player Joel Landsberg\, a native of New York City who also had a very extensive musical upbringing in classical and jazz music (studying with jazz great Milt Hinton)\, thus forming a trio that has been playing professionally together since 1995.\n\n 
URL:https://grahamcountytravel.com/event/moonrise-at-tapoco-lodge/
LOCATION:Tapoco Lodge\, 14981 Tapoco Rd\, Robbinsville\, NC\, 28771\, United States
END:VEVENT
BEGIN:VEVENT
DTSTART;VALUE=DATE:20190414
DTEND;VALUE=DATE:20190419
DTSTAMP:20260421T080129
CREATED:20190326T174311Z
LAST-MODIFIED:20190401T204426Z
UID:1727-1555200000-1555631999@grahamcountytravel.com
SUMMARY:45th Annual Spring Hike Week
DESCRIPTION:An Appalachian Evening with Kruger Brothers\n\nBorn and raised in Europe\, brothers Jens and Uwe Kruger started singing and playing instruments at a very young age. Growing up in a family where music was an important part of life\, they were exposed to a wide diversity of musical influences. The brothers were performing regularly by the time they were eleven and twelve years old\, and they began their professional career in 1979. Jens’ and Uwe’s first public performances were as a duo\, and in just a few years they were busking on the streets of cities throughout eastern and western Europe. CBS Records contracted with Jens and Uwe when Jens was just seventeen years old\, and shortly thereafter\, the Krugers hosted a radio show on SRG SSR\, the Swiss Public broadcast group. Several years later\, the brothers teamed up with bass player Joel Landsberg\, a native of New York City who also had a very extensive musical upbringing in classical and jazz music (studying with jazz great Milt Hinton)\, thus forming a trio that has been playing professionally together since 1995.\n\n 
URL:https://grahamcountytravel.com/event/45th-annual-spring-hike-week/
LOCATION:Fontana Village Resort & Marina\, 300 Woods Rd\, Fontana Dam
ATTACH;FMTTYPE=image/jpeg:https://grahamcountytravel.com/wp-content/uploads/2019/04/Dick-on-Bearpen.jpg
ORGANIZER;CN="Dillon Slaughter":MAILTO:dillon.slaughter@fontanavillage.com
END:VEVENT
END:VCALENDAR