BEGIN:VCALENDAR
VERSION:2.0
PRODID:-//Graham County - ECPv6.15.16.1//NONSGML v1.0//EN
CALSCALE:GREGORIAN
METHOD:PUBLISH
X-WR-CALNAME:Graham County
X-ORIGINAL-URL:https://grahamcountytravel.com
X-WR-CALDESC:Events for Graham County
REFRESH-INTERVAL;VALUE=DURATION:PT1H
X-Robots-Tag:noindex
X-PUBLISHED-TTL:PT1H
BEGIN:VTIMEZONE
TZID:UTC
BEGIN:STANDARD
TZOFFSETFROM:+0000
TZOFFSETTO:+0000
TZNAME:UTC
DTSTART:20250101T000000
END:STANDARD
END:VTIMEZONE
BEGIN:VEVENT
DTSTART;TZID=UTC:20260328T110000
DTEND;TZID=UTC:20260328T140000
DTSTAMP:20260423T081555
CREATED:20190405T135912Z
LAST-MODIFIED:20260122T145447Z
UID:1964-1774695600-1774706400@grahamcountytravel.com
SUMMARY:Easter Egg Hunt at Stecoah Valley Center
DESCRIPTION:Every Friday night a variety of music\, bands\, dancing\, gathering and socializing on the Robbinsville Court House Square. Bring your dancing shoes or just sit back and listen. Bring your favorite lawn chair or sit on the bleachers.\n\nTonight's Band is Carolina Bluegrass Boys (Bluegrass)
URL:https://grahamcountytravel.com/event/easter-egg-hunt-at-stecoah-valley-center/
LOCATION:Stecoah Valley Center\, 121 Schoolhouse Road\, Robbinsville\, NC\, 28771\, United States
ATTACH;FMTTYPE=image/jpeg:https://grahamcountytravel.com/wp-content/uploads/2019/04/easter-egg-hunt-svc-2025.jpeg
ORGANIZER;CN="Stecoah Valley Cultural Arts Center":MAILTO:info@stecoahvalleycenter
END:VEVENT
END:VCALENDAR