BEGIN:VCALENDAR
VERSION:2.0
PRODID:-//Graham County - ECPv6.15.16.1//NONSGML v1.0//EN
CALSCALE:GREGORIAN
METHOD:PUBLISH
X-WR-CALNAME:Graham County
X-ORIGINAL-URL:https://grahamcountytravel.com
X-WR-CALDESC:Events for Graham County
REFRESH-INTERVAL;VALUE=DURATION:PT1H
X-Robots-Tag:noindex
X-PUBLISHED-TTL:PT1H
BEGIN:VTIMEZONE
TZID:UTC
BEGIN:STANDARD
TZOFFSETFROM:+0000
TZOFFSETTO:+0000
TZNAME:UTC
DTSTART:20250101T000000
END:STANDARD
END:VTIMEZONE
BEGIN:VEVENT
DTSTART;TZID=UTC:20260328T110000
DTEND;TZID=UTC:20260328T140000
DTSTAMP:20260424T154927
CREATED:20190405T135912Z
LAST-MODIFIED:20260122T145447Z
UID:1964-1774695600-1774706400@grahamcountytravel.com
SUMMARY:Easter Egg Hunt at Stecoah Valley Center
DESCRIPTION:Every Friday night a variety of music\, bands\, dancing\, gathering and socializing on the Robbinsville Court House Square. Bring your dancing shoes or just sit back and listen. Bring your favorite lawn chair or sit on the bleachers.\n\nTonight's Band is Carolina Bluegrass Boys (Bluegrass)
URL:https://grahamcountytravel.com/event/easter-egg-hunt-at-stecoah-valley-center/
LOCATION:Stecoah Valley Center\, 121 Schoolhouse Road\, Robbinsville\, NC\, 28771\, United States
ATTACH;FMTTYPE=image/jpeg:https://grahamcountytravel.com/wp-content/uploads/2019/04/easter-egg-hunt-svc-2025.jpeg
ORGANIZER;CN="Stecoah Valley Cultural Arts Center":MAILTO:info@stecoahvalleycenter
END:VEVENT
BEGIN:VEVENT
DTSTART;VALUE=DATE:20260411
DTEND;VALUE=DATE:20260413
DTSTAMP:20260424T154927
CREATED:20240122T161735Z
LAST-MODIFIED:20260122T201943Z
UID:5457-1775865600-1776038399@grahamcountytravel.com
SUMMARY:Cheoah River Release
DESCRIPTION:Every Friday night a variety of music\, bands\, dancing\, gathering and socializing on the Robbinsville Court House Square. Bring your dancing shoes or just sit back and listen. Bring your favorite lawn chair or sit on the bleachers.\n\nTonight's Band is Carolina Bluegrass Boys (Bluegrass)
URL:https://grahamcountytravel.com/event/cheoah-river-release-9/
LOCATION:Cheoah River\, Joyce Kilmer Rd\, Robbinsville\, NC\, 28771\, United States
ATTACH;FMTTYPE=image/jpeg:https://grahamcountytravel.com/wp-content/uploads/2024/01/Cheoah-River-Release-2020.jpg
END:VEVENT
BEGIN:VEVENT
DTSTART;VALUE=DATE:20260418
DTEND;VALUE=DATE:20260420
DTSTAMP:20260424T154927
CREATED:20240122T161106Z
LAST-MODIFIED:20260122T194645Z
UID:5454-1776470400-1776643199@grahamcountytravel.com
SUMMARY:Cheoah River Release
DESCRIPTION:Every Friday night a variety of music\, bands\, dancing\, gathering and socializing on the Robbinsville Court House Square. Bring your dancing shoes or just sit back and listen. Bring your favorite lawn chair or sit on the bleachers.\n\nTonight's Band is Carolina Bluegrass Boys (Bluegrass)
URL:https://grahamcountytravel.com/event/cheoah-river-release-8/
LOCATION:Cheoah River\, Joyce Kilmer Rd\, Robbinsville\, NC\, 28771\, United States
ATTACH;FMTTYPE=image/jpeg:https://grahamcountytravel.com/wp-content/uploads/2024/01/Cheoah-River-Release-2020.jpg
END:VEVENT
BEGIN:VEVENT
DTSTART;TZID=UTC:20260425T080000
DTEND;TZID=UTC:20260426T160000
DTSTAMP:20260424T154927
CREATED:20240122T155503Z
LAST-MODIFIED:20260122T202239Z
UID:5442-1777104000-1777219200@grahamcountytravel.com
SUMMARY:Cheoah River Release
DESCRIPTION:Every Friday night a variety of music\, bands\, dancing\, gathering and socializing on the Robbinsville Court House Square. Bring your dancing shoes or just sit back and listen. Bring your favorite lawn chair or sit on the bleachers.\n\nTonight's Band is Carolina Bluegrass Boys (Bluegrass)
URL:https://grahamcountytravel.com/event/cheoah-river-release-5/
LOCATION:Cheoah River\, Joyce Kilmer Rd\, Robbinsville\, NC\, 28771\, United States
ATTACH;FMTTYPE=image/jpeg:https://grahamcountytravel.com/wp-content/uploads/2024/01/Cheoah-River-Release-2020.jpg
END:VEVENT
BEGIN:VEVENT
DTSTART;TZID=UTC:20260425T090000
DTEND;TZID=UTC:20260425T130000
DTSTAMP:20260424T154927
CREATED:20250319T144343Z
LAST-MODIFIED:20260413T181333Z
UID:7107-1777107600-1777122000@grahamcountytravel.com
SUMMARY:Annual Kids Fishing Derby
DESCRIPTION:Every Friday night a variety of music\, bands\, dancing\, gathering and socializing on the Robbinsville Court House Square. Bring your dancing shoes or just sit back and listen. Bring your favorite lawn chair or sit on the bleachers.\n\nTonight's Band is Carolina Bluegrass Boys (Bluegrass)
URL:https://grahamcountytravel.com/event/annual-kids-fishing-derby/
LOCATION:Stanley Ball Field\, Robbinsville\, NC\, 28771\, United States
ATTACH;FMTTYPE=image/jpeg:https://grahamcountytravel.com/wp-content/uploads/2025/03/kids-fishing-derby-26.jpg
END:VEVENT
END:VCALENDAR