BEGIN:VCALENDAR
VERSION:2.0
PRODID:-//Graham County - ECPv6.15.16.1//NONSGML v1.0//EN
CALSCALE:GREGORIAN
METHOD:PUBLISH
X-WR-CALNAME:Graham County
X-ORIGINAL-URL:https://grahamcountytravel.com
X-WR-CALDESC:Events for Graham County
REFRESH-INTERVAL;VALUE=DURATION:PT1H
X-Robots-Tag:noindex
X-PUBLISHED-TTL:PT1H
BEGIN:VTIMEZONE
TZID:UTC
BEGIN:STANDARD
TZOFFSETFROM:+0000
TZOFFSETTO:+0000
TZNAME:UTC
DTSTART:20240101T000000
END:STANDARD
END:VTIMEZONE
BEGIN:VEVENT
DTSTART;TZID=UTC:20250523T193000
DTEND;TZID=UTC:20250523T220000
DTSTAMP:20260424T043327
CREATED:20240118T214904Z
LAST-MODIFIED:20250517T101653Z
UID:5422-1748028600-1748037600@grahamcountytravel.com
SUMMARY:Friday Night Music on the Square
DESCRIPTION:Get ready for a Spooktacular time! Stecoah Valley Center is excited to announce that we are hosting a Trunk or Treat!
URL:https://grahamcountytravel.com/event/friday-night-music-on-the-square-3/
LOCATION:Courthouse Square\, 12 Court St\, Robbinsville\, NC\, 28771\, United States
ATTACH;FMTTYPE=image/jpeg:https://grahamcountytravel.com/wp-content/uploads/2024/01/Bill-Pruitt-25.jpeg
END:VEVENT
BEGIN:VEVENT
DTSTART;TZID=UTC:20250524T110000
DTEND;TZID=UTC:20250524T160000
DTSTAMP:20260424T043327
CREATED:20190430T173820Z
LAST-MODIFIED:20250517T075622Z
UID:2031-1748084400-1748102400@grahamcountytravel.com
SUMMARY:Fading Voices Demonstration Day
DESCRIPTION:Get ready for a Spooktacular time! Stecoah Valley Center is excited to announce that we are hosting a Trunk or Treat!
URL:https://grahamcountytravel.com/event/fading-voices/
LOCATION:Little Snowbird Church Playground\, Snowbird Community\, Robbinsville\, NC\, 28771\, United States
ATTACH;FMTTYPE=image/jpeg:https://grahamcountytravel.com/wp-content/uploads/2019/04/FadingVoices-2024.jpg
ORGANIZER;CN="Fading Voices Committee":MAILTO:rogersmoker@yahoo.com
END:VEVENT
END:VCALENDAR