BEGIN:VCALENDAR
VERSION:2.0
PRODID:-//Graham County - ECPv6.15.16.1//NONSGML v1.0//EN
CALSCALE:GREGORIAN
METHOD:PUBLISH
X-WR-CALNAME:Graham County
X-ORIGINAL-URL:https://grahamcountytravel.com
X-WR-CALDESC:Events for Graham County
REFRESH-INTERVAL;VALUE=DURATION:PT1H
X-Robots-Tag:noindex
X-PUBLISHED-TTL:PT1H
BEGIN:VTIMEZONE
TZID:UTC
BEGIN:STANDARD
TZOFFSETFROM:+0000
TZOFFSETTO:+0000
TZNAME:UTC
DTSTART:20240101T000000
END:STANDARD
END:VTIMEZONE
BEGIN:VEVENT
DTSTART;VALUE=DATE:20250911
DTEND;VALUE=DATE:20250912
DTSTAMP:20260422T211100
CREATED:20250820T140130Z
LAST-MODIFIED:20250820T183452Z
UID:7614-1757548800-1757635199@grahamcountytravel.com
SUMMARY:Patriot Day Pickleball Double Elimination Tournament
DESCRIPTION:Join the unveiling of the Snowbird Cherokee Matriarchs Mural on Main Street\, Robbinsville\, NC\n\nRefreshments will be served. Come early and visit the open air market with local Cherokee crafts & art vendors.\n\n \n\n 
URL:https://grahamcountytravel.com/event/patriot-day-pickleball-double-elimination-tournament/
LOCATION:Stecoah Valley Center\, 121 Schoolhouse Road\, Robbinsville\, NC\, 28771\, United States
ATTACH;FMTTYPE=image/jpeg:https://grahamcountytravel.com/wp-content/uploads/2025/08/Pickleball-SVC-25.jpg
ORGANIZER;CN="Karen McCracken":MAILTO:karen@stecoahvalleycenter.com
END:VEVENT
END:VCALENDAR