BEGIN:VCALENDAR
VERSION:2.0
PRODID:-//Graham County - ECPv6.15.16.1//NONSGML v1.0//EN
CALSCALE:GREGORIAN
METHOD:PUBLISH
X-WR-CALNAME:Graham County
X-ORIGINAL-URL:https://grahamcountytravel.com
X-WR-CALDESC:Events for Graham County
REFRESH-INTERVAL;VALUE=DURATION:PT1H
X-Robots-Tag:noindex
X-PUBLISHED-TTL:PT1H
BEGIN:VTIMEZONE
TZID:UTC
BEGIN:STANDARD
TZOFFSETFROM:+0000
TZOFFSETTO:+0000
TZNAME:UTC
DTSTART:20240101T000000
END:STANDARD
END:VTIMEZONE
BEGIN:VEVENT
DTSTART;TZID=UTC:20250613T110000
DTEND;TZID=UTC:20250613T160000
DTSTAMP:20260421T145647
CREATED:20250516T160209Z
LAST-MODIFIED:20250516T160210Z
UID:7317-1749812400-1749830400@grahamcountytravel.com
SUMMARY:Glass Blowing Workshops
DESCRIPTION:40th ANNUAL FADING VOICES DEMONSTRATION DAY\nA CELEBRATION OF TRADITIONAL WAYS of THE SNOWBIRD CHEROKEES\n\n\n\nSpend the day learning Cherokee traditions with Handmade Crafts\, Cherokee foods\, Beadwork\, Pottery\, Quilting\, Stick Ball\, and so many more demonstrations along with Beautiful Cherokee Hymn Singing.\n\nThe Mound Building Demonstration will begin at 11 am — bring a cup or turtle shell full of dirt from home to participate.\n\nTHIS IS A RAIN OR SHINE EVENT
URL:https://grahamcountytravel.com/event/glass-blowing-workshops/
LOCATION:Robbinsville High School\, 301 Sweetwater Rd\, Robbinsville\, NC\, 28771\, United States
ATTACH;FMTTYPE=image/jpeg:https://grahamcountytravel.com/wp-content/uploads/2025/05/495697842_1113693087467063_1985996484838041173_n.jpg
ORGANIZER;CN="Graham County Travel & Tourism":MAILTO:jeanette.nichols@grahamcounty.org
END:VEVENT
BEGIN:VEVENT
DTSTART;TZID=UTC:20250613T193000
DTEND;TZID=UTC:20250613T220000
DTSTAMP:20260421T145647
CREATED:20230327T164257Z
LAST-MODIFIED:20250517T081002Z
UID:5116-1749843000-1749852000@grahamcountytravel.com
SUMMARY:Friday Night Music on the Square
DESCRIPTION:40th ANNUAL FADING VOICES DEMONSTRATION DAY\nA CELEBRATION OF TRADITIONAL WAYS of THE SNOWBIRD CHEROKEES\n\n\n\nSpend the day learning Cherokee traditions with Handmade Crafts\, Cherokee foods\, Beadwork\, Pottery\, Quilting\, Stick Ball\, and so many more demonstrations along with Beautiful Cherokee Hymn Singing.\n\nThe Mound Building Demonstration will begin at 11 am — bring a cup or turtle shell full of dirt from home to participate.\n\nTHIS IS A RAIN OR SHINE EVENT
URL:https://grahamcountytravel.com/event/friday-night-music-on-the-square-2/
LOCATION:Courthouse Square\, 12 Court St\, Robbinsville\, NC\, 28771\, United States
ATTACH;FMTTYPE=image/jpeg:https://grahamcountytravel.com/wp-content/uploads/2023/03/Johnny-Webb-Band-1.jpeg
END:VEVENT
BEGIN:VEVENT
DTSTART;TZID=UTC:20250614T100000
DTEND;TZID=UTC:20250614T180000
DTSTAMP:20260421T145647
CREATED:20180821T215317Z
LAST-MODIFIED:20250519T085238Z
UID:130-1749895200-1749924000@grahamcountytravel.com
SUMMARY:8TH ANNUAL GRAHAM COUNTY FLAME AZALEA FESTIVAL
DESCRIPTION:40th ANNUAL FADING VOICES DEMONSTRATION DAY\nA CELEBRATION OF TRADITIONAL WAYS of THE SNOWBIRD CHEROKEES\n\n\n\nSpend the day learning Cherokee traditions with Handmade Crafts\, Cherokee foods\, Beadwork\, Pottery\, Quilting\, Stick Ball\, and so many more demonstrations along with Beautiful Cherokee Hymn Singing.\n\nThe Mound Building Demonstration will begin at 11 am — bring a cup or turtle shell full of dirt from home to participate.\n\nTHIS IS A RAIN OR SHINE EVENT
URL:https://grahamcountytravel.com/event/first-annual-graham-county-azalea-festival/
LOCATION:Robbinsville High School\, 301 Sweetwater Rd\, Robbinsville\, NC\, 28771\, United States
ATTACH;FMTTYPE=image/jpeg:https://grahamcountytravel.com/wp-content/uploads/2018/08/Azalea.jpg
ORGANIZER;CN="Graham County Travel & Tourism":MAILTO:jeanette.nichols@grahamcounty.org
END:VEVENT
END:VCALENDAR